BEGIN:VCALENDAR
VERSION:2.0
PRODID:-//The Sensuous Mystic - ECPv6.0.1.1//NONSGML v1.0//EN
CALSCALE:GREGORIAN
METHOD:PUBLISH
X-WR-CALNAME:The Sensuous Mystic
X-ORIGINAL-URL:http://thesensuousmystic.com
X-WR-CALDESC:Events for The Sensuous Mystic
REFRESH-INTERVAL;VALUE=DURATION:PT1H
X-Robots-Tag:noindex
X-PUBLISHED-TTL:PT1H
BEGIN:VTIMEZONE
TZID:UTC
BEGIN:STANDARD
TZOFFSETFROM:+0000
TZOFFSETTO:+0000
TZNAME:UTC
DTSTART:20210101T000000
END:STANDARD
END:VTIMEZONE
BEGIN:VEVENT
DTSTART;TZID=UTC:20210313T110000
DTEND;TZID=UTC:20210313T120000
DTSTAMP:20260421T060643
CREATED:20210228T144205Z
LAST-MODIFIED:20210228T145216Z
UID:1577-1615633200-1615636800@thesensuousmystic.com
SUMMARY:Nude Nurturing with Rev. Goddess
DESCRIPTION:  \nNude Nurturing Meditation Online \n \nJoin Rev Goddess Charmaine in your comfortable\, sacred\, nude setting and enjoy techniques to heal\, nurture and expand your Holy Body and Spiritual Nature. \nThis is a time to relax and rejuvenate! \nThe session includes Meditation ~ Merge ~ Chants some dancing and intending to evolve in your holy body.  \nWe will incorporate a gentle hip roll exercise to connect your sex center \nto your heart center for whole-body bliss and Holy Body Lift!  \nWe will end with an affirmation for your ongoing use by Rev. Goddess. \n“You are Spiritually whole and Sexually Perfect. Your body Knows it and Shows it. And So It Is.” \nGive it a try! \nSaturday March 13th\, 2021\, 11:00am EST (1 Hour Session) \nOn Zoom Coed\, Men and Women please join.  \n1 Hour only $15 per person prepaid through PayPal:  \nhttps://www.paypal.me/thesensuousmystic \nor \nPay through Cash App: \n$RevGoddessCharmaine \nAfter you PAY you will receive the ZOOM Link
URL:http://thesensuousmystic.com/calendar/nude-nurturing-with-rev-goddess-5/
LOCATION:NY
END:VEVENT
BEGIN:VEVENT
DTSTART;TZID=UTC:20210323T190000
DTEND;TZID=UTC:20210323T200000
DTSTAMP:20260421T060643
CREATED:20210228T144949Z
LAST-MODIFIED:20210316T132551Z
UID:1579-1616526000-1616529600@thesensuousmystic.com
SUMMARY:Tantra Tuesday
DESCRIPTION:  \n  \n  \n \n  \nhttps://youtu.be/k-z1C_b-Cgs \n  \nEsoteric Guides NY \nOnline on CrowdCast Platform \nhttps://www.crowdcast.io/e/how-to-heal-premature/register?utm_source=profile&utm_medium=profile_web&utm_campaign=profile \nHow to heal premature Ejaculation the Goddess way! \nPremature ejaculation is best known by a male ejaculating before he desires too. However\, there are many levels and reasons why a man will premature ejaculate and you will learn about them tonight with Rev. Goddess Charmaine. Before she evolved as Goddess\, she stepped into a healing role as a Sexual Surrogate in 1992 in NYC\, and in her years as a surrogate she learned masters and Johnsons sexual healing techniques as well as alternative tantra methods.  She worked with single men and couples to heal this issue as well as teaching women simple techniques to support their man to last longer in the bed. Join alone or together\, men and women and get it right with goddess\, and be able to apply directly\, and have fun doing it. Participants with practice the steps with Rev. Goddess and you’ll even get to see her with her strap on\, so she can show all the men and women how to stroke\, squeeze and pull.  \n  \n$20 per person paid to Esoteric Guides NY only.  \nhttps://www.crowdcast.io/e/how-to-heal-premature/register?utm_source=profile&utm_medium=profile_web&utm_campaign=profile
URL:http://thesensuousmystic.com/calendar/tantra-tuesday-2/
LOCATION:NY
END:VEVENT
END:VCALENDAR