BEGIN:VCALENDAR
VERSION:2.0
PRODID:-//The Sensuous Mystic - ECPv6.0.1.1//NONSGML v1.0//EN
CALSCALE:GREGORIAN
METHOD:PUBLISH
X-ORIGINAL-URL:http://thesensuousmystic.com
X-WR-CALDESC:Events for The Sensuous Mystic
REFRESH-INTERVAL;VALUE=DURATION:PT1H
X-Robots-Tag:noindex
X-PUBLISHED-TTL:PT1H
BEGIN:VTIMEZONE
TZID:UTC
BEGIN:STANDARD
TZOFFSETFROM:+0000
TZOFFSETTO:+0000
TZNAME:UTC
DTSTART:20200101T000000
END:STANDARD
END:VTIMEZONE
BEGIN:VEVENT
DTSTART;TZID=UTC:20200411T130000
DTEND;TZID=UTC:20200411T140000
DTSTAMP:20260420T062830
CREATED:20200403T150328Z
LAST-MODIFIED:20200403T150328Z
UID:1340-1586610000-1586613600@thesensuousmystic.com
SUMMARY:Nude Nurturing with Rev. Goddess
DESCRIPTION:Nude Meditation Online \n  \n \n  \n  \nJoin Rev Goddess Charmaine in your comfortable\, sacred\, nude setting and learn Tantra. This is a time to relax and rejuvenate your holy body and spirit. \nA time to learn the foundation of tantra and to reconnect with your body-spirit; a time for erotic balance through mastering your energy centers\, guided by Rev. Goddess. \nThe session includes Meditation ~ Merge ~ Chants some dancing and intending to evolve in your holy body.  \nWe will incorporate a gentle hip roll exercise to connect your sex center \nto your heart center for whole-body bliss and Holy Body Lift!  \nWe will end with an affirmation for your ongoing use by Rev. Goddess. \n“You are Spiritually whole and Sexually Perfect. Your body Knows it and Shows it. And So It Is.” \nGive it a try! \nSaturday April 11th\, 2020 1pm to 2pm EST! \nOn Zoom Coed\, Men and Women please join.  \n1 Hour only $15 per person prepaid through PayPal:  \nhttps://www.paypal.me/thesensuousmystic \nAfter you PAY you will receive the ZOOM Link
URL:http://thesensuousmystic.com/calendar/nude-nurturing-with-rev-goddess/
END:VEVENT
END:VCALENDAR