BEGIN:VCALENDAR
VERSION:2.0
PRODID:-//The Sensuous Mystic - ECPv6.0.1.1//NONSGML v1.0//EN
CALSCALE:GREGORIAN
METHOD:PUBLISH
X-WR-CALNAME:The Sensuous Mystic
X-ORIGINAL-URL:http://thesensuousmystic.com
X-WR-CALDESC:Events for The Sensuous Mystic
REFRESH-INTERVAL;VALUE=DURATION:PT1H
X-Robots-Tag:noindex
X-PUBLISHED-TTL:PT1H
BEGIN:VTIMEZONE
TZID:UTC
BEGIN:STANDARD
TZOFFSETFROM:+0000
TZOFFSETTO:+0000
TZNAME:UTC
DTSTART:20200101T000000
END:STANDARD
END:VTIMEZONE
BEGIN:VEVENT
DTSTART;TZID=UTC:20200411T130000
DTEND;TZID=UTC:20200411T140000
DTSTAMP:20260425T202428
CREATED:20200403T150328Z
LAST-MODIFIED:20200403T150328Z
UID:1340-1586610000-1586613600@thesensuousmystic.com
SUMMARY:Nude Nurturing with Rev. Goddess
DESCRIPTION:Nude Meditation Online \n  \n \n  \n  \nJoin Rev Goddess Charmaine in your comfortable\, sacred\, nude setting and learn Tantra. This is a time to relax and rejuvenate your holy body and spirit. \nA time to learn the foundation of tantra and to reconnect with your body-spirit; a time for erotic balance through mastering your energy centers\, guided by Rev. Goddess. \nThe session includes Meditation ~ Merge ~ Chants some dancing and intending to evolve in your holy body.  \nWe will incorporate a gentle hip roll exercise to connect your sex center \nto your heart center for whole-body bliss and Holy Body Lift!  \nWe will end with an affirmation for your ongoing use by Rev. Goddess. \n“You are Spiritually whole and Sexually Perfect. Your body Knows it and Shows it. And So It Is.” \nGive it a try! \nSaturday April 11th\, 2020 1pm to 2pm EST! \nOn Zoom Coed\, Men and Women please join.  \n1 Hour only $15 per person prepaid through PayPal:  \nhttps://www.paypal.me/thesensuousmystic \nAfter you PAY you will receive the ZOOM Link
URL:http://thesensuousmystic.com/calendar/nude-nurturing-with-rev-goddess/
END:VEVENT
BEGIN:VEVENT
DTSTART;TZID=UTC:20200418T130000
DTEND;TZID=UTC:20200418T153000
DTSTAMP:20260425T202428
CREATED:20200306T150749Z
LAST-MODIFIED:20200407T213452Z
UID:1302-1587214800-1587223800@thesensuousmystic.com
SUMMARY:Expanding your Erotic Nature & developing your Psychic Abilities with Rev. Goddess Charmaine
DESCRIPTION:  \n \nEROTIC \nExpanding Radiance Outwardly Through Inner Cultivation \nWhen it was time for us as young ladies to learn more about our erotic nature and how to use it in the world\, we became shamed. We were blamed for the inability of men to control their own dysfunctional desires. Because of the misuse and abuse of sexual power\, women were made to feel that sex\, and most importantly “their sexual” nature was BAD\, CURSED\, DEMONIC!  \nWe were shut down and those of us that figured out that this was wrong and unhealthy for us\, began to express our erotic nature and cultivate it and show it more. This created lots of anger from men and the terms Whore\, Cunt\, Slut\, Loose\, became household names for the Erotic Woman.  \nWomen still struggle to expand their erotic nature and now in this time\, all women are taking back their power\, so we can finally rise together.  \nLet your smile shine. \nSwing your hips. \nTouch the face of that person you want to send love too. \nLet the sound of your voice cause the heartbeat to pounce. \nIt’s all part of our Erotic Nature and cultivating it allows for specific natural abilities to emerge.  \nExpanding Radiance Outwardly Through Inner Cultivation (EROTIC) is your Erotic essence\, and now you can reawaken your natural eros with me.  \nExpanding your Erotic Nature & developing your Psychic Abilities with Rev. Goddess Charmaine \nA Women Only Online workshop on Zoom \nWomen are truly stepping into their Divine Feminine Consciousness and awakening the Goddess within. Through time and practice women have learned the techniques and rituals to Heal\, Take Back our Power and Evolve!  \nRev. Goddess will guide you into releasing your natural holy body energy and gain the full knowledge of your Highest Ability as Goddess.  \nSexually and Spiritually you are ready to expand!  \nWe will explore together: Calling the Elements and Expanding your 4 energetic bodies (Physical\, Spiritual\, Light and Soul) to release your abilities for spiritual\, sexual and psychic development!  \nBring your yoni egg\, or crystals. \nThen develop your Sex Center Vibration\, (I want sex) and Heart Power Frequency (I am Love) and merge the two. She will then teach you about your Orgasmic Bubble and your personal power for healing and manifesting in every area of your life. We will take moments to focus specifically on certain areas of our lives. Family\, Beloved\, Money\, Sex! \nAND healing and empowering the Little Girl YOU. \nI will guide you into the deep frequency of self love discipline and help you truly to own your inner power for erotic magick!  Allow yourself this opportunity to truly honor your pussy power with the forever evolving psychic abilities (Clairvoyance\, Clairaudience\, Clairsentience\, Clairscent\, Clairtangency\, Clairgustance\, Clairempathy\, Channel/Channeling) to guide you into trusting your power to create and manifest with all that is already available in your Sexy Holy Body. \nWe will also be doing some movement and body aura cleansing\, so wear a sarong if you can\, or a dress so you have air between your legs.  \nBring sage and incense. \nLet’s continue to Rise Together!  \n$45 per woman. \nSaturday April 18th 1 to 3:30pm EST \nPay through PayPal:  https://www.paypal.me/thesensuousmystic \nOnce you pay for the session you will receive the Zoom Link. This session is being RECORDED\, if you cannot join the session LIVE\, you will have the link to view the session at your convenience.  \nFor those LIVE on the call you will be able to ask questions specifically for your own personal development. \n  \n \n  \n  \n  \n  \n  \n  \n  \n  \nGoddess Blessings ~ RGC \nhttps://www.youtube.com/watch?v=Pod6TElqdOI&t=40s
URL:http://thesensuousmystic.com/calendar/expanding-your-erotic-nature-developing-your-psychic-abilities-with-rev-goddess-charmaine/
END:VEVENT
BEGIN:VEVENT
DTSTART;TZID=UTC:20200425T150000
DTEND;TZID=UTC:20200425T163000
DTSTAMP:20260425T202428
CREATED:20200404T130249Z
LAST-MODIFIED:20200404T130249Z
UID:1343-1587826800-1587832200@thesensuousmystic.com
SUMMARY:Orgasmic Breathing & Erotic Trance Dance
DESCRIPTION:Orgasmic Breathing & Erotic Trance Dance \nWith \nRev. Goddess Charmaine & Goddess BE ~ Beth Nolan \n \nOnline experience ~ ZOOM \nClothing Optional \nOrgasmic Reflex Breathing aka ORB with Goddess BE is an ever expanding building of life breath energy flowing through your body with movement guided by Goddess BE to open you up to the true pure energy of life called Orgasm. Let yourself be led into release\, freedom and fulfillment through the ORB experience. Be sure to have a yoga mat. \nThen we will continue our ascent with Rev. Goddess’s Trance Dance building on the Erotic Orgasmic energy generated from your Orgasmic Breathing. For thousands of years\, dance has been a portal into altered consciousness and divine communion\, as well as a healthy expression of sexual energy and enlightenment for all. Rev. Goddess will lead us through erotic gyrations that Call to “Father Sky & Mother Earth” Vibrations! \nRemember\, “As Above – So Below.” With this law of balance we will sweat away stress and create an erotic volcano of fun that will last and last and last. \nTogether with Goddess BE and Rev. Goddess you will increase personal strength and boost your Immune system to fight off illness and gain joy and wisdom and continue to manifest your divine birthright of prosperity on earth.  \nBe sure to have plenty of water. \nDo not force yourself to do every movement. Come and enjoy the fun energy and erotic vibration that Rev. Goddess and Goddess Be brings! \nClothing Optional. If you choose to wear clothing\, please wear a sarong or shorts. Nothing too tight. Or just be in your Best Naked birthday suit. Holla and Always Goddess Blessings \nSaturday April 25th\, 2020 3:00 to 4:30pm EST & 12:00 noon to 1:30pm PST. \n$35 per person paid through paypal: https://www.paypal.me/thesensuousmystic \nWhen you PAY you will receive ZOOM link
URL:http://thesensuousmystic.com/calendar/orgasmic-breathing-erotic-trance-dance/
END:VEVENT
END:VCALENDAR