BEGIN:VCALENDAR
VERSION:2.0
PRODID:-//The Sensuous Mystic - ECPv6.0.1.1//NONSGML v1.0//EN
CALSCALE:GREGORIAN
METHOD:PUBLISH
X-ORIGINAL-URL:http://thesensuousmystic.com
X-WR-CALDESC:Events for The Sensuous Mystic
REFRESH-INTERVAL;VALUE=DURATION:PT1H
X-Robots-Tag:noindex
X-PUBLISHED-TTL:PT1H
BEGIN:VTIMEZONE
TZID:UTC
BEGIN:STANDARD
TZOFFSETFROM:+0000
TZOFFSETTO:+0000
TZNAME:UTC
DTSTART:20220101T000000
END:STANDARD
END:VTIMEZONE
BEGIN:VEVENT
DTSTART;TZID=UTC:20220604T130000
DTEND;TZID=UTC:20220604T160000
DTSTAMP:20260420T134308
CREATED:20220404T135119Z
LAST-MODIFIED:20220404T135119Z
UID:1838-1654347600-1654358400@thesensuousmystic.com
SUMMARY:Holy Body Naked Church ~ In Person Service
DESCRIPTION:Holy Body Naked Church In Person Worship Service\n \n  \nHoly Body Worship\, lovingly called “Naked Church” is a clothing optional worship service led by Rev. Goddess Charmaine. \n\nHoly Body Worship is an Interfaith spiritual service that celebrates the intimacy and uniqueness of the body and soul relationship through honoring and acknowledging the body as a temple and recognizing it as the vessel our soul chose for incarnation. The option of being naked or sky-clad during Service is used to further the expression of reverence and celebration of our body soul relationship to Source. \nOur bodies are miracles\, beautiful complex ecosystems\, walking art – each unique\, holy and a piece of God/Goddess/Source. The ‘clothing optional’ is simply that – optional. You are never required to be nude during service. It is a matter of choice and truth in the present moment based on how your body feels and wishes to express itself. In service\, we view nudity as a form of transparency and intimacy. We bare our soul’s and the places that have been hiding or living inauthentically and bring ourselves back to authenticity\, transparency and one-ness. \nIf we feel guarded when we remove our clothes it’s not a form of celebration and we’ve actually moved our relationship to body/soul/source out of union or one-ness and into fragmentation and inauthenticity. However\, if you have felt guarded your entire life\, perhaps this is the moment to experience your union and one-ness through exploring nudity\, through moving through fear and embracing yourself ‘holy’ and completely in this moment. \nIn Holy Body Worship\, we choose to be nude or to celebrate with others who are nude in order to explore a deeper level of intimacy with our bodies\, our souls\, each other\, the divine. To remove that which keeps us separate – and to bring us back into right relationship with body\, soul\, Source. Whole Body Worship celebrates and takes a stand for the right to choose to worship your body naked or clothed or in any state of disrobe that feels appropriate to you in the present moment and also acknowledges that that decision may change from moment to moment. We invite you to ask yourself what makes you feel powerful\, holy\, wild\, sensual\, free\, and totally you and to celebrate your body soul union from that place? ~ Isis Phoenix \nJoin Services to release\, heal\, and become full again. To celebrate and build community of a Holy Body Nature! We will sing\, chant\, merge and meditate. We will receive a message and share our own thoughts about our Holy Bodies. And we will all Rise! \nHoly Body “Naked Church”\nThe Holy Body Temple\n370 Coldbrook RD\nBearsville\, NY 12409\nSaturday\, June 4th 2022\n1:00 to 4:00pm\nCoed (men&women) \nBring a towel\nSnacks Served after Service\nYou MUST RSVP: reverendgoddess@gmail.com or 201-982-6699\nwww.thesensuousmystic.com \n$45 per person Prepaid through PayPal or CashApp \nPayPal \nPay The Sensuous Mystic LLC using PayPal.Me \nPay The Sensuous Mystic LLC using PayPal.Me  \n  \nCashApp \n$RevGoddessCharmaine \n  \nBring a towel\nSnacks Served after Service\nYou MUST RSVP: reverendgoddess@gmail.com or 201-982-6699\nwww.thesensuousmystic.com \nGoddess Blessings
URL:http://thesensuousmystic.com/calendar/holy-body-naked-church-in-person-service-2/
LOCATION:The Holy Body Temple\, 370 Coldbrook RD\, Bearsville\, NY\, 12409\, United States
END:VEVENT
BEGIN:VEVENT
DTSTART;TZID=UTC:20220611T110000
DTEND;TZID=UTC:20220611T120000
DTSTAMP:20260420T134308
CREATED:20220429T154619Z
LAST-MODIFIED:20220429T155729Z
UID:1905-1654945200-1654948800@thesensuousmystic.com
SUMMARY:The Earthly Realm Energetic Development Group
DESCRIPTION:This FREE Group\, The Earthly Realm Journey Sessions are for those that have already done the 3 Immersion process with me first. \nThis ongoing energetic support group is there for us all to continue expanding in our Right Relationship with the Earth Mother Being\, with our selves\, others and All Life. It is in this frequency of Oneness AKA One Love that guides us much more smoother into our Divine Birthright Of Prosperity On Earth. We get to begin again\, to activate our Born Blessed Energetic Knowingness through this Journey Process. I look forward to continuing to rise with you all. \n“Every Effort To Rise\, Raises Another\, I Am Here For You And Thank You For Being Here For Me.” \n  \nhttp://If You Are Interested in Doing The Earthly Realm Journey Immersion Sessions\, click this link to read more and schedule your sessions right away!
URL:http://thesensuousmystic.com/calendar/the-earthly-realm-energetic-development-group/
LOCATION:Zoom
END:VEVENT
BEGIN:VEVENT
DTSTART;TZID=UTC:20220618T120000
DTEND;TZID=UTC:20220618T200000
DTSTAMP:20260420T134308
CREATED:20220202T131544Z
LAST-MODIFIED:20220321T100314Z
UID:1785-1655553600-1655582400@thesensuousmystic.com
SUMMARY:Grounding Into Goddess Day Retreat (Women Only) CANCELLED!!
DESCRIPTION:  \nTHIS EVENT IS CANCELLED!! \n  \nGrounding Into Goddess \nA Woman’s Day Retreat \nClothing Optional \nUpstate New York \nJune 18th\, 2022 \n12:00 noon to 8:00pm EST \nCheck in at 11:30am EST \nLocation: The Holy Body Temple \n370 Coldbrook Road \nBearsville\, NY 12409 \nPhone: 201-982-6699 \n$225 per woman\, pre-paid through PayPal or CashApp. $240 at the door\, the day of retreat\, exact change please. If you are paying at the DOOR\, You Must RSVP!! \nThis is a day of Claiming and Owning the Essence of your True Being as Goddess. A day of empowering your Pussy and Merging with your Heart! \nReprogram the old beliefs of doubt and shame to empower ourselves and finally know “the pussy knows” she’s our gut knowing. Trust in her/your Goddess Power! \nCome together with Goddess BE ~ Beth Nolan and Rev. Goddess Charmaine and immerse yourself in the beautiful earth energy upstate NY on Reverend Goddess’s land. Retreat into nature\, bond with women who want to expand into goddesses love and grow. Empowering ourselves through the wisdom and grace of Goddess Consciousness.  Learn the tools to generate\, harvest and expand us into new energy. Directing that energy to our hearts and to Gaia\, grounding ourselves into our own Goddess self. Restoring the balance here on earth.  \nExperience your true freedom and develop your energetic abilities and physical wholeness through the ancient traditions of Tantra\, yoga and Shamanism. \nWhat our Time together will look like. \nComing together \nSharing why you chose to retreat  \nIntention setting  \nLaw of Rise Statement of Truth. “Every Effort To Rise Raises Another\, I Am Here For You And Thank You For Being Here For Me”  \nRev. Goddess shares the power of the law of rise and how to apply it. Throughout our day this law will be in full play.  \nWeather permitting\, we will be outdoors\, on the deck and in the woods. \nA beautiful blend of gentle nude yoga and diving deep into the wisdom of Gaia as we sing dance chant and if possible dance around a roaring fire calling all goddesses!  \nMoving into regenerative techniques that you can continue adding into your life from this day forward.  \n90 minute break for snacks and to relax and take time for yourself out in the woods on our 4 acres.  \nClaiming and Owning your Essence with a Pussy Power Party. Face and body painting to add to our empowerment and fun! \nSpeaking your truth and transforming it into the real you today! “I Am Spiritually Whole and Sexually Perfect\, My Body Knows It And Shows It”  \nThen in the end we will dance and eat a meal that grounds us all completely into Gaia and a sisterhood that will continue to thrive within us all. \nLeave relieved\, filled and connected much deeper into Gaia! \nWe hope that you will choose to join us for a woman’s day retreat and know the power this choice is for you in this NOW! \nEach woman please bring a dish or treat to share. Food is nurturing and goddess grounding. Wine\, juice and fruit is good too.  \nBring a Sarong\, a towel or blanket and yoga mat.  \nWe look forward to seeing you all then.  \nGrounding Into Goddess \nA Woman’s Day Retreat \nClothing Optional \nUpstate New York \nTHIS EVENT IS CANCELLED!! \nJune 18th\, 2022 \n12:00 noon to 8:00pm EST \nCheck in at 11:30am EST \nLocation: The Holy Body Temple \n370 Coldbrook Road \nBearsville\, NY 12409 \nPhone: 201-982-6699 \n$225 per woman\, pre-paid through PayPal or CashApp. $240 at the door\, the day of retreat\, exact change please. If you are paying at the DOOR\, You Must RSVP!! \n$RevGoddessCharmaine \nPay The Sensuous Mystic LLC using PayPal.Me \nPay The Sensuous Mystic LLC using PayPal.Me  \nIf you are paying at the DOOR\, You Must RSVP!! \nTraveling by car: 370 Coldbrook Road\, Bearsville NY 12409 \nDepending on where you are coming from\, your drive can be an hour to two and a half hours. Enjoy the drive and watch your scenery change as you head upstate.  \nTraveling by Bus from NYC Port Authority to Woodstock\, NY \nTHIS EVENT IS CANCELLED!! \nClick link or cut and paste to get rates and times. \nhttps://www.busbud.com/en/bus-new-york-woodstock/r/dr5reg-dr7r1w \nFrom Woodstock\, you will need to get a taxi to bring you to The Holy Body Temple at 370 Coldbrook Road\, Bearsville NY 12409. It’s a 10 minute drive.  \nAny other questions\, please contact Me or Goddess BE. \nGODDESS BLESSINGS
URL:http://thesensuousmystic.com/calendar/grounding-into-goddess-day-retreat-women-only/
LOCATION:The Holy Body Temple\, 370 Coldbrook RD\, Bearsville\, NY\, 12409\, United States
END:VEVENT
BEGIN:VEVENT
DTSTART;TZID=UTC:20220625T020000
DTEND;TZID=UTC:20220625T180000
DTSTAMP:20260420T134308
CREATED:20220405T114700Z
LAST-MODIFIED:20220418T121902Z
UID:1840-1656122400-1656180000@thesensuousmystic.com
SUMMARY:Goddess Initiation 2022
DESCRIPTION:The Honor of Your Presence is Requested \n \nAt The \nGoddess Initiation 2022 \nSaturday\, June 25th\, 2022 \n2:00 O’Clock pm \n\nCeremony Held At: \nHoly Body Temple Home \nUpstate NY ~ Woodstock \n370 Coldbrook Rd \nBearsville\, NY 12409 \nMeaning Of Initiation:  \nAn initiation is a symbolic death and rebirth\, a rite of passage that transforms each person who experiences it. It marks acceptance and a deep personal commitment to the Goddess. It is a gift of change that causes revelation and understanding and sparks further growth and change. We must strip ourselves of our defenses\, pretension\, masks\, roles\, of our “clothing and jewels” in order to cross that threshold and enter into the inner queendom/kingdom. But know you that in the void is the “Mother State” so the crown of death becomes the circle of rebirth attaining the balance of Masculine and Feminine. \n“I Am at the start of a long journey….an my conclusion is uncertain.” \nGoddess Blessings ~ Rev. Goddess Charmaine \nGifts: Personal gifts are allowed for The initiate! You are welcome to bring flowers\, jewelry etc. You can give her the gifts at the Reception! You are also welcomed to place flowers on the Altar!  \nDonations accepted: We are asking for a $20 suggested donation. Given at the door!  \nYou can give less and we welcome more! But\, please give! \nINITIATE: Medea A Brooks \nThere are no pictures allowed to be taken during Initiation Ceremony! (Except if Initiates allows or asks for specific pictures) Pictures are allowed at the conclusion of Ceremony and during Reception! \nReception immediately following Ceremony! \nRefreshments and a light meal will be Served \nOfficiant: Reverend Goddess Charmaine \nRSVP: reverendgoddess@gmail.com \nOr Text: 201-982-6699 \nAttire: Casual/Formal \n  \n 
URL:http://thesensuousmystic.com/calendar/goddess-initiation-2022/
LOCATION:The Holy Body Temple\, 370 Coldbrook RD\, Bearsville\, NY\, 12409\, United States
END:VEVENT
END:VCALENDAR