BEGIN:VCALENDAR
VERSION:2.0
PRODID:-//The Sensuous Mystic - ECPv6.0.1.1//NONSGML v1.0//EN
CALSCALE:GREGORIAN
METHOD:PUBLISH
X-ORIGINAL-URL:http://thesensuousmystic.com
X-WR-CALDESC:Events for The Sensuous Mystic
REFRESH-INTERVAL;VALUE=DURATION:PT1H
X-Robots-Tag:noindex
X-PUBLISHED-TTL:PT1H
BEGIN:VTIMEZONE
TZID:UTC
BEGIN:STANDARD
TZOFFSETFROM:+0000
TZOFFSETTO:+0000
TZNAME:UTC
DTSTART:20220101T000000
END:STANDARD
END:VTIMEZONE
BEGIN:VEVENT
DTSTART;TZID=UTC:20220305T113000
DTEND;TZID=UTC:20220305T124500
DTSTAMP:20260421T040931
CREATED:20220225T133140Z
LAST-MODIFIED:20220225T133246Z
UID:1804-1646479800-1646484300@thesensuousmystic.com
SUMMARY:Divine Feminine Realm ~ Journey For Men group energetic session
DESCRIPTION:
URL:http://thesensuousmystic.com/calendar/divine-feminine-realm-journey-for-men-group-energetic-session/
LOCATION:Zoom
END:VEVENT
BEGIN:VEVENT
DTSTART;TZID=UTC:20220320T110000
DTEND;TZID=UTC:20220320T120000
DTSTAMP:20260421T040931
CREATED:20220310T142926Z
LAST-MODIFIED:20220410T110837Z
UID:1814-1647774000-1647777600@thesensuousmystic.com
SUMMARY:Divine Feminine Realm Energetic Development Group ~ Women Only
DESCRIPTION:  \nThe Divine Feminine Realm\, Energetic development and support group \nMonthly Ongoing gathering of Divine Feminine Women ~ 1 hour \nFREE  \nFor those women that have gone through All 3 Immersion sessions \nYou are a Goddess! Believe it.  \nWe are in the world\, but not of this world.  \nYou ARE of the Divine Feminine Realm.  \n“….women have this magical substance in their being that has to do with the real mystery of creation in which light takes on form and takes on human consciousness and yet remains true to its essential nature.” \n~ Excerpt from\, The Return of the Feminine and the World Soul. By Llewellyn Vaughan-Lee \n“The Spark of life through my Energetically whole womb brings forth the Divine Feminine Connection to All. As I Rise in this frequency\, I walk in the Realm. The Divine Feminine Realm. And So It Is…..” ~ Reverend Goddess Charmaine  \nThis group gathering is your opportunity to connect with other divine feminine women in the realm and here on earth. To bring energetic support to all of our personal issues and creations for healing and manifestation. To continue to develop your energetic abilities\, give & receive pleasure and transform.  \nDates for our gatherings will be announced in advance. The dates will not be on a regular basis. Meaning (for example\, the 1st Monday of each month). They will be scheduled monthly and on a different day and time based on moon cycles\, equinoxes and solstices.  \nFREE for All Women that have completed the Immersion Sessions and are now active in the Divine Feminine Realm! \nThis is for the women that have already journeyed to The Divine Feminine Realm. If you cannot join or you miss a free group gathering. You can schedule a one on one session with me to journey. It’s only $25 for a 45 to 1 hour session. \nLadies if you want to SCHEDULE A One On One Diving Feminine Realm Journey session\, you can do that at anytime with me. It’s $25 for a 45 minute session. Includes: sharing and questions\, the journey\, 5-3-5 breathing for integration and share to complete. It’s always available to dive deeper in your abilities in the realm with the one on one. \nThis is for the women that have already journeyed to The Divine Feminine Realm. If you cannot join or you miss a free group gathering. You can schedule a one on one session with me to journey. It’s only $25 for a 45 to 1 hour session. \nPrepay through Cash App: \n$RevGoddessCharmaine \nOR \nPayPal: \nPay The Sensuous Mystic LLC using PayPal.Me \nPay The Sensuous Mystic LLC using PayPal.Me \nGoddess Bl \nIf you have not journeyed to The Divine Feminine Realm. You can read more about the one on one IMMERSION Sessions and schedule with Rev. Goddess http://thesensuousmystic.com/the-divine-feminine-realm-one-on-one-immersion-online-sessions-women-only/ \n  \nThis Video by Bruce Lipton really expresses how I’ve been able to discover these “Realms” and why the Journey process is so powerful. I have been removing old negative programming and thoughts that no longer serve me for years through amazing techniques and trainings I discovered and would be led to learn. Then in 2013\, I stepped into Energetic Shamanism Training. Now I am in an amazing place energetically to consistently guide others to the Realms through the Journeys.
URL:http://thesensuousmystic.com/calendar/divine-feminine-realm-energetic-development-group-women-only-6/
LOCATION:Zoom
END:VEVENT
BEGIN:VEVENT
DTSTART;TZID=UTC:20220326T130000
DTEND;TZID=UTC:20220326T170000
DTSTAMP:20260421T040931
CREATED:20211220T170403Z
LAST-MODIFIED:20220311T112844Z
UID:1762-1648299600-1648314000@thesensuousmystic.com
SUMMARY:Holy Body Naked Church ~ In Person Service
DESCRIPTION:Holy Body Naked Church In Person Worship Service\n \n  \nHoly Body Worship\, lovingly called “Naked Church” is a clothing optional worship service led by Rev. Goddess Charmaine. \nBring a towel\nBirthday Celebration after Service\nYou MUST RSVP: reverendgoddess@gmail.com or 201-982-6699\nwww.thesensuousmystic.com\n$45 per person prepaid through PayPal or CashApp \nHoly Body Worship is an Interfaith spiritual service that celebrates the intimacy and uniqueness of the body and soul relationship through honoring and acknowledging the body as a temple and recognizing it as the vessel our soul chose for incarnation. The option of being naked or sky-clad during Service is used to further the expression of reverence and celebration of our body soul relationship to Source. \nOur bodies are miracles\, beautiful complex ecosystems\, walking art – each unique\, holy and a piece of God/Goddess/Source. The ‘clothing optional’ is simply that – optional. You are never required to be nude during service. It is a matter of choice and truth in the present moment based on how your body feels and wishes to express itself. In service\, we view nudity as a form of transparency and intimacy. We bare our soul’s and the places that have been hiding or living inauthentically and bring ourselves back to authenticity\, transparency and one-ness. \nIf we feel guarded when we remove our clothes it’s not a form of celebration and we’ve actually moved our relationship to body/soul/source out of union or one-ness and into fragmentation and inauthenticity. However\, if you have felt guarded your entire life\, perhaps this is the moment to experience your union and one-ness through exploring nudity\, through moving through fear and embracing yourself ‘holy’ and completely in this moment. \nIn Holy Body Worship\, we choose to be nude or to celebrate with others who are nude in order to explore a deeper level of intimacy with our bodies\, our souls\, each other\, the divine. To remove that which keeps us separate – and to bring us back into right relationship with body\, soul\, Source. Whole Body Worship celebrates and takes a stand for the right to choose to worship your body naked or clothed or in any state of disrobe that feels appropriate to you in the present moment and also acknowledges that that decision may change from moment to moment. We invite you to ask yourself what makes you feel powerful\, holy\, wild\, sensual\, free\, and totally you and to celebrate your body soul union from that place? ~ Isis Phoenix \nJoin Services to release\, heal\, and become full again. To celebrate and build community of a Holy Body Nature! We will sing\, chant\, merge and meditate. We will receive a message and share our own thoughts about our Holy Bodies. And we will all Rise! \nHoly Body “Naked Church”\nThe Holy Body Temple\n370 Coldbrook RD\nBearsville\, NY 12409\nSaturday\, March 26th\, 2022\n1:00 to 5:00pm\nCoed (men&women) \nBring a towel\nBirthday Celebration after Service\nYou MUST RSVP: reverendgoddess@gmail.com or 201-982-6699\nwww.thesensuousmystic.com \n$45 per person Prepaid through PayPal or CashApp \nPayPal \nPay The Sensuous Mystic LLC using PayPal.Me \nPay The Sensuous Mystic LLC using PayPal.Me  \n  \nCashApp \n$RevGoddessCharmaine \n  \nBring a towel\nBirthday Celebration after Service\nYou MUST RSVP: reverendgoddess@gmail.com or 201-982-6699\nwww.thesensuousmystic.com \nGoddess Blessings
URL:http://thesensuousmystic.com/calendar/holy-body-naked-church-in-person-service/
LOCATION:The Holy Body Temple\, 370 Coldbrook RD\, Bearsville\, NY\, 12409\, United States
END:VEVENT
END:VCALENDAR