BEGIN:VCALENDAR
VERSION:2.0
PRODID:-//The Sensuous Mystic - ECPv6.0.1.1//NONSGML v1.0//EN
CALSCALE:GREGORIAN
METHOD:PUBLISH
X-WR-CALNAME:The Sensuous Mystic
X-ORIGINAL-URL:http://thesensuousmystic.com
X-WR-CALDESC:Events for The Sensuous Mystic
REFRESH-INTERVAL;VALUE=DURATION:PT1H
X-Robots-Tag:noindex
X-PUBLISHED-TTL:PT1H
BEGIN:VTIMEZONE
TZID:UTC
BEGIN:STANDARD
TZOFFSETFROM:+0000
TZOFFSETTO:+0000
TZNAME:UTC
DTSTART:20220101T000000
END:STANDARD
END:VTIMEZONE
BEGIN:VEVENT
DTSTART;TZID=UTC:20220111T180000
DTEND;TZID=UTC:20220111T191500
DTSTAMP:20260421T021323
CREATED:20211207T142829Z
LAST-MODIFIED:20220103T163236Z
UID:1740-1641924000-1641928500@thesensuousmystic.com
SUMMARY:Shakti's Nude Nurturing with Rev. Goddess (Women Only)
DESCRIPTION:Shakti’s Nude Nurturing with Rev. Goddess ( Women Only) \n \nClothing Optional  \nOnline on Zoom \n$25 per woman 75 minute session \nAwaken your pussy purpose with passion in this exquisite and inspirational women only session with Rev. Goddess!  \nAllow her to guide you deep into your womb power and raise it up into your heart and expand your feminine abilities in a ritualistic way that you can incorporate into your own life going forward.  \nRev. Goddess Charmaine has a unique and very special way of bringing you into the realm of holy body love healing and empowerment.  \nIn this women only session we will activate our spark of all life within\, and then invoke our pussy power with chants and breath work and body anointing to align with our hearts that will expand our spiritual purpose on earth.  \nYou’ll need a votive candle \nA mirror \nYour favorite crystal  \nYour favorite essential oil for body anointing  \nYoni egg. Inserted if possible.  \nTuesday\, January 11th\, 2022 at 6pm EST & Saturday\, January 22nd at 11am EST!! \nChoose one session or both. Each session is $25 per woman. If you have a group of women in your Zoom box\, it is $25 for each woman in your group.  \n1 hour and 15 minutes and $25 per Shakti! Prepaid through PayPal or CashApp \nPay The Sensuous Mystic LLC using PayPal.Me \nPay The Sensuous Mystic LLC using PayPal.Me  \n$RevGoddessCharmaine \nI will send Zoom Link the day before each session. \nGoddess Blessings 
URL:http://thesensuousmystic.com/calendar/shaktis-nude-nurturing-with-rev-goddess-women-only/
LOCATION:Zoom
END:VEVENT
BEGIN:VEVENT
DTSTART;TZID=UTC:20220116T110000
DTEND;TZID=UTC:20220116T120000
DTSTAMP:20260421T021323
CREATED:20220104T135113Z
LAST-MODIFIED:20220104T135113Z
UID:1775-1642330800-1642334400@thesensuousmystic.com
SUMMARY:Divine Feminine Realm Energetic Development Group (Women Only)
DESCRIPTION:  \nThe Divine Feminine Realm\, Energetic development and support group \nMonthly Ongoing gathering of Divine Feminine Women ~ 1 hour \nFREE  \nFor those women that have gone through All 3 Immersion sessions \nYou are a Goddess! Believe it.  \nWe are in the world\, but not of this world.  \nYou ARE of the Divine Feminine Realm.  \n“….women have this magical substance in their being that has to do with the real mystery of creation in which light takes on form and takes on human consciousness and yet remains true to its essential nature.” \n~ Excerpt from\, The Return of the Feminine and the World Soul. By Llewellyn Vaughan-Lee \n“The Spark of life through my Energetically whole womb brings forth the Divine Feminine Connection to All. As I Rise in this frequency\, I walk in the Realm. The Divine Feminine Realm. And So It Is…..” ~ Reverend Goddess Charmaine  \nThis group gathering is your opportunity to connect with other divine feminine women in the realm and here on earth. To bring energetic support to all of our personal issues and creations for healing and manifestation. To continue to develop your energetic abilities\, give & receive pleasure and transform.  \nDates for our gatherings will be announced in advance. The dates will not be on a regular basis. Meaning (for example\, the 1st Monday of each month). They will be scheduled monthly and on a different day and time based on moon cycles\, equinoxes and solstices.  \nFREE for All Women that have completed the Immersion Sessions and are now active in the Divine Feminine Realm! \n  \nThis is for the women that have already journeyed to The Divine Feminine Realm. If you cannot join or you miss a free group gathering. You can schedule a one on one session with me to journey. It’s only $25 for a 45 to 1 hour session. \nLadies if you want to SCHEDULE A One On One Diving Feminine Realm Journey session\, you can do that at anytime with me. It’s $25 for a 45 minute session. Includes: sharing and questions\, the journey\, 5-3-5 breathing for integration and share to complete. It’s always available to dive deeper in your abilities in the realm with the one on one. \nThis is for the women that have already journeyed to The Divine Feminine Realm. If you cannot join or you miss a free group gathering. You can schedule a one on one session with me to journey. It’s only $25 for a 45 to 1 hour session. \nPrepay through Cash App: \n$RevGoddessCharmaine \nOR \nPayPal: \nPay The Sensuous Mystic LLC using PayPal.Me \nPay The Sensuous Mystic LLC using PayPal.Me \nGoddess Blessings  \n  \n  \nIf you have not journeyed to The Divine Feminine Realm. You can read more about the one on one IMMERSION Sessions and schedule with Rev. Goddess http://thesensuousmystic.com/the-divine-feminine-realm-one-on-one-immersion-online-sessions-women-only/
URL:http://thesensuousmystic.com/calendar/divine-feminine-realm-energetic-development-group-women-only-4/
LOCATION:Zoom
END:VEVENT
BEGIN:VEVENT
DTSTART;TZID=UTC:20220117T180000
DTEND;TZID=UTC:20220117T200000
DTSTAMP:20260421T021323
CREATED:20211220T161749Z
LAST-MODIFIED:20211220T161749Z
UID:1754-1642442400-1642449600@thesensuousmystic.com
SUMMARY:Grounding Into Goddess Claim & Own the Essence of your True Being
DESCRIPTION:  \nGrounding Into Goddess \nClaim & Own the Essence of your True Being \nWomen Only Online Session \nClothing Optional  \nRev. Goddess and Goddess BE are here to share tips and empowerment exercises to tap into the ancient wisdoms and grace of our holy bodies and consciousness. Claim and Own the essence of your true being is about living in alignment with your truest desires and activating your personal power through your holy body merged with Gaia! \nGoddess BE and Rev. Goddess are shining examples of having claimed and own the essence of their true selves. They live out loud as goddesses and their lifestyles were created from that deep (womb) place of their very being-ness.  \nIf you wanna break fear or negativity about your body.  \nIf you wanna feel freer in your holy body. \nIf you want to be able to be nude in group settings. \nIf you want to live a richer life experience.  \nIf you want to celebrate yourself even more. \nYou’ll learn the tools to generate\, harvest and expand into a new energy – a new paradigm. Directing love and light from our hearts to Gaia.  \nBeing Nude by choice in session is a chance to feel free with other women and connect deeper into our sisterhood bond. The feminine energy is a womb of abilities and her power expands the earth through our holy bodies.  \nTogether in this session we will\, activate our holy body spirit consciousness\, explore the nude feminine body\, grounding into goddess yoga and dance. We will have the Nude talk and dive deep into the Om breath work. Then there is a moment of Spot Light Love that will completely leave you open to all the love of Gaia!  \nThis will be fun\, rewarding and enlightening for all.  \nAll you need is an open mind and a computer.  \nWomen Only! $85 per person.  \nSession will be held on Zoom. \nIf you have a group of women in your Zoom box\, it is $85 for each woman in your group.  \nTwo dates to ground into goddess.  \nMonday\, January 17th\, 2022 6:00 to 8:00pm EST.  \nSaturday\, January 29th\, 2022 3:00 to 5:00pm EST. \nPrepaid through PayPal or CashApp \nPay The Sensuous Mystic LLC using PayPal.Me \nPay The Sensuous Mystic LLC using PayPal.Me  \n$RevGoddessCharmaine \nWe will send Zoom Link the day before each session. \nGoddess Blessings 
URL:http://thesensuousmystic.com/calendar/grounding-into-goddess-claim-own-the-essence-of-your-true-being/
LOCATION:Zoom
END:VEVENT
BEGIN:VEVENT
DTSTART;TZID=UTC:20220122T110000
DTEND;TZID=UTC:20220122T121500
DTSTAMP:20260421T021323
CREATED:20211207T143811Z
LAST-MODIFIED:20211207T143811Z
UID:1748-1642849200-1642853700@thesensuousmystic.com
SUMMARY:Shakti's Nude Nurturing with Rev. Goddess (Women Only)
DESCRIPTION:Shakti’s Nude Nurturing with Rev. Goddess ( Women Only) \n \nClothing Optional  \nOnline on Zoom \n$25 per woman 75 minute session \nAwaken your pussy purpose with passion in this exquisite and inspirational women only session with Rev. Goddess!  \nAllow her to guide you deep into your womb power and raise it up into your heart and expand your feminine abilities in a ritualistic way that you can incorporate into your own life going forward.  \nRev. Goddess Charmaine has a unique and very special way of bringing you into the realm of holy body love healing and empowerment.  \nIn this women only session we will activate our spark of all life within\, and then invoke our pussy power with chants and breath work and body anointing to align with our hearts that will expand our spiritual purpose on earth.  \nYou’ll need a votive candle \nA mirror \nYour favorite crystal  \nYour favorite essential oil for body anointing  \nYoni egg. Inserted if possible.  \nTuesday\, January 11th\, 2022 at 6pm EST & Saturday\, January 22nd at 11am EST!! \nChoose one session or both. Each session is $25 per woman. If you have a group of women in your Zoom box\, it is $25 for each woman in your group.  \n1 hour and 15 minutes and $25 per Shakti! Prepaid through PayPal or CashApp \nPay The Sensuous Mystic LLC using PayPal.Me \nPay The Sensuous Mystic LLC using PayPal.Me  \n$RevGoddessCharmaine \nI will send Zoom Link the day before each session. \nGoddess Blessings 
URL:http://thesensuousmystic.com/calendar/shaktis-nude-nurturing-with-rev-goddess-women-only-2/
LOCATION:Zoom
END:VEVENT
BEGIN:VEVENT
DTSTART;TZID=UTC:20220129T130000
DTEND;TZID=UTC:20220129T143000
DTSTAMP:20260421T021323
CREATED:20211207T144429Z
LAST-MODIFIED:20211207T144646Z
UID:1750-1643461200-1643466600@thesensuousmystic.com
SUMMARY:Holy Body Naked Church Worship ~ Online (COED)
DESCRIPTION:Holy Body (Naked Church) Worship \nSaturday January 29th\, 2022 1:00 to 2:30 pmEST $20 suggested donation. per person (COED Event) \n \nHappening on Zoom \nHAPPY NEW YEAR BLESSINGS \nHoly Body Worship\, lovingly called “Naked Church” is a clothing optional worship service led by Rev. Goddess Charmaine. \nHoly Body Worship is an Interfaith spiritual service that celebrates the intimacy and uniqueness of the body and soul relationship through honoring and acknowledging the body as a temple and recognizing it as the vessel our soul chose for incarnation. The option of being naked or sky-clad during Service is used to further the expression of reverence and celebration of our body soul relationship to Source. \nOur bodies are miracles\, beautiful complex ecosystems\, walking art – each unique\, holy and a piece of God/Goddess/Source. The ‘clothing optional’ is simply that – optional. You are never required to be nude during service. It is a matter of choice and truth in the present moment based on how your body feels and wishes to express itself. In service\, we view nudity as a form of transparency and intimacy. We bare our soul’s and the places that have been hiding or living inauthentically and bring ourselves back to authenticity\, transparency and one-ness. \nIf we feel guarded when we remove our clothes it’s not a form of celebration and we’ve actually moved our relationship to body/soul/source out of union or one-ness and into fragmentation and inauthenticity. However\, if you have felt guarded your entire life\, perhaps this is the moment to experience your union and one-ness through exploring nudity\, through moving through fear and embracing yourself ‘holy’ and completely in this moment. \nIn Holy Body Worship\, we choose to be nude or to celebrate with others who are nude in order to explore a deeper level of intimacy with our bodies\, our souls\, each other\, the divine. To remove that which keeps us separate – and to bring us back into right relationship with body\, soul\, Source. Whole Body Worship celebrates and takes a stand for the right to choose to worship your body naked or clothed or in any state of disrobe that feels appropriate to you in the present moment and also acknowledges that that decision may change from moment to moment. We invite you to ask yourself what makes you feel powerful\, holy\, wild\, sensual\, free\, and totally you and to celebrate your body soul union from that place? ~ Isis Phoenix \nJoin Services to release\, heal\, and become full again. To celebrate and build community of a Holy Body Nature! We will sing\, chant\, merge and meditate. We will receive a message and share our own thoughts about our Holy Bodies. And we will all Rise! \nSaturday January 29th\, 2022\n1:00 to 2:30pm\nCoed (men&women)\n$20 suggested donation. Or give what you can. \nYou MUST RSVP: reverendgoddess@gmail.com or 845-288-4680 \nZoom Link will be emailed to everyone that RSVP’s \nGive your $20 donation through PayPal: \nPay The Sensuous Mystic LLC using PayPal.Me \nPay The Sensuous Mystic LLC using PayPal.Me \nor \nGive through Cash App: \n$RevGoddessCharmaine \nwww.thesensuousmystic.com\nGODDESS BLESSINGS
URL:http://thesensuousmystic.com/calendar/holy-body-naked-church-worship-online-7/
LOCATION:Zoom
END:VEVENT
BEGIN:VEVENT
DTSTART;TZID=UTC:20220129T150000
DTEND;TZID=UTC:20220129T170000
DTSTAMP:20260421T021323
CREATED:20211220T163933Z
LAST-MODIFIED:20211220T164123Z
UID:1756-1643468400-1643475600@thesensuousmystic.com
SUMMARY:Grounding Into Goddess Claim & Own the Essence of your True Being
DESCRIPTION:  \n  \nGrounding Into Goddess \nClaim & Own the Essence of your True Being \nWomen Only Online Session \nClothing Optional  \nRev. Goddess and Goddess BE are here to share tips and empowerment exercises to tap into the ancient wisdoms and grace of our holy bodies and consciousness. Claim and Own the essence of your true being is about living in alignment with your truest desires and activating your personal power through your holy body merged with Gaia! \nGoddess BE and Rev. Goddess are shining examples of having claimed and own the essence of their true selves. They live out loud as goddesses and their lifestyles were created from that deep (womb) place of their very being-ness.  \nIf you wanna break fear or negativity about your body.  \nIf you wanna feel freer in your holy body. \nIf you want to be able to be nude in group settings. \nIf you want to live a richer life experience.  \nIf you want to celebrate yourself even more. \nYou’ll learn the tools to generate\, harvest and expand into a new energy – a new paradigm. Directing love and light from our hearts to Gaia.  \nBeing Nude by choice in session is a chance to feel free with other women and connect deeper into our sisterhood bond. The feminine energy is a womb of abilities and her power expands the earth through our holy bodies.  \nTogether in this session we will\, activate our holy body spirit consciousness\, explore the nude feminine body\, grounding into goddess yoga and dance. We will have the Nude talk and dive deep into the Om breath work. Then there is a moment of Spot Light Love that will completely leave you open to all the love of Gaia!  \nThis will be fun\, rewarding and enlightening for all.  \nAll you need is an open mind and a computer.  \nWomen Only! $85 per person.  \nSession will be held on Zoom. \nIf you have a group of women in your Zoom box\, it is $85 for each woman in your group.  \nTwo dates to ground into goddess.  \nMonday\, January 17th\, 2022 6:00 to 8:00pm EST.  \nSaturday\, January 29th\, 2022 3:00 to 5:00pm EST. \nPrepaid through PayPal or CashApp \nPay The Sensuous Mystic LLC using PayPal.Me \nPay The Sensuous Mystic LLC using PayPal.Me  \n$RevGoddessCharmaine \nWe will send Zoom Link the day before each session. \nGoddess Blessings 
URL:http://thesensuousmystic.com/calendar/grounding-into-goddess-claim-own-the-essence-of-your-true-being-2/
LOCATION:Zoom
END:VEVENT
END:VCALENDAR